BEGIN:VCALENDAR
VERSION:2.0
PRODID:-//Plucking Strummers Ukulele Club - ECPv6.15.20//NONSGML v1.0//EN
CALSCALE:GREGORIAN
METHOD:PUBLISH
X-WR-CALNAME:Plucking Strummers Ukulele Club
X-ORIGINAL-URL:https://pluckingstrummers.club
X-WR-CALDESC:Events for Plucking Strummers Ukulele Club
REFRESH-INTERVAL;VALUE=DURATION:PT1H
X-Robots-Tag:noindex
X-PUBLISHED-TTL:PT1H
BEGIN:VTIMEZONE
TZID:America/Los_Angeles
BEGIN:DAYLIGHT
TZOFFSETFROM:-0800
TZOFFSETTO:-0700
TZNAME:PDT
DTSTART:20240310T100000
END:DAYLIGHT
BEGIN:STANDARD
TZOFFSETFROM:-0700
TZOFFSETTO:-0800
TZNAME:PST
DTSTART:20241103T090000
END:STANDARD
BEGIN:DAYLIGHT
TZOFFSETFROM:-0800
TZOFFSETTO:-0700
TZNAME:PDT
DTSTART:20250309T100000
END:DAYLIGHT
BEGIN:STANDARD
TZOFFSETFROM:-0700
TZOFFSETTO:-0800
TZNAME:PST
DTSTART:20251102T090000
END:STANDARD
BEGIN:DAYLIGHT
TZOFFSETFROM:-0800
TZOFFSETTO:-0700
TZNAME:PDT
DTSTART:20260308T100000
END:DAYLIGHT
BEGIN:STANDARD
TZOFFSETFROM:-0700
TZOFFSETTO:-0800
TZNAME:PST
DTSTART:20261101T090000
END:STANDARD
END:VTIMEZONE
BEGIN:VEVENT
DTSTART;TZID=America/Los_Angeles:20250426T090000
DTEND;TZID=America/Los_Angeles:20250426T114500
DTSTAMP:20260419T064013
CREATED:20250316T203952Z
LAST-MODIFIED:20250420T172618Z
UID:814-1745658000-1745667900@pluckingstrummers.club
SUMMARY:Meetup - April 26 2025
DESCRIPTION:Dust off you’re a-less chaps and studs. Tease up your hair a mile high\, because we’re going to rock Atwater like a hurricane! I’ve picked out some awesome headbangers plus a few glam ballads. We’re going to tour the history of the genre with our pedals to the metal on our own highways to hell! \nMany thanks to HoneyB for keep our Yacht Rocks afloat. We had a great turnout. Ahoy also to Gene and Larry for docking privileges. Now if I could just lose those seafaring ear worms… \nThe set list: DOWNLOAD HERE\nWe’re Not Gonna Take It – Twisted Sister\nRock and Roll All Nite – KISS\nLiving After Midnight – Judas Priest\nBorn To Be Wild – Steppenwolf\nEver Rose Has Its Thorn – Poison\nRock You Like A Hurricane – Scorpions\nLiving On A Prayer – Bon Jovi\nHighway To Hell – AC/DC\nOnce Bitten Twice Shy – Great White \nHere’s some handy song links: \nWe’re Not Gonna Take It – Twisted Sister\nhttps://www.youtube.com/watch?v=4xmckWVPRaI \nRock and Roll All Nite – KISS\nhttps://www.youtube.com/watch?v=o8mzIyIOdm0 \nLiving After Midnight – Judas Priest\nhttps://www.youtube.com/watch?v=9VVFNgbsDC4 \nBorn To Be Wild – Steppenwolf\nhttps://www.youtube.com/watch?v=egMWlD3fLJ8 \nEver Rose Has Its Thorn – Poison\nhttps://www.youtube.com/watch?v=j2r2nDhTzO4 \nRock You Like A Hurricane – Scorpions\nhttps://www.youtube.com/watch?v=6yP1tcy9a10 \nLiving On A Prayer – Bon Jovi\nhttps://www.youtube.com/watch?v=lDK9QqIzhwk \nHighway To Hell – AC/DC\nhttps://www.youtube.com/watch?v=l482T0yNkeo \nOnce Bitten Twice Shy – Great White\nhttps://www.youtube.com/watch?v=Bz61YQWZuYU
URL:https://pluckingstrummers.club/event/meetup-january-25-2025-2-2-2-2-3/
LOCATION:CCLA in Atwater Village\, 3852 Edenhurst Ave.\, Los Angeles\, CA\, 90039\, United States
CATEGORIES:Plucking Strummers Meetings
ATTACH;FMTTYPE=image/png:https://pluckingstrummers.club/wp-content/uploads/2025/03/image.png
END:VEVENT
END:VCALENDAR