BEGIN:VCALENDAR
VERSION:2.0
PRODID:-//Plucking Strummers Ukulele Club - ECPv6.15.20//NONSGML v1.0//EN
CALSCALE:GREGORIAN
METHOD:PUBLISH
X-WR-CALNAME:Plucking Strummers Ukulele Club
X-ORIGINAL-URL:https://pluckingstrummers.club
X-WR-CALDESC:Events for Plucking Strummers Ukulele Club
REFRESH-INTERVAL;VALUE=DURATION:PT1H
X-Robots-Tag:noindex
X-PUBLISHED-TTL:PT1H
BEGIN:VTIMEZONE
TZID:America/Los_Angeles
BEGIN:DAYLIGHT
TZOFFSETFROM:-0800
TZOFFSETTO:-0700
TZNAME:PDT
DTSTART:20230312T100000
END:DAYLIGHT
BEGIN:STANDARD
TZOFFSETFROM:-0700
TZOFFSETTO:-0800
TZNAME:PST
DTSTART:20231105T090000
END:STANDARD
BEGIN:DAYLIGHT
TZOFFSETFROM:-0800
TZOFFSETTO:-0700
TZNAME:PDT
DTSTART:20240310T100000
END:DAYLIGHT
BEGIN:STANDARD
TZOFFSETFROM:-0700
TZOFFSETTO:-0800
TZNAME:PST
DTSTART:20241103T090000
END:STANDARD
BEGIN:DAYLIGHT
TZOFFSETFROM:-0800
TZOFFSETTO:-0700
TZNAME:PDT
DTSTART:20250309T100000
END:DAYLIGHT
BEGIN:STANDARD
TZOFFSETFROM:-0700
TZOFFSETTO:-0800
TZNAME:PST
DTSTART:20251102T090000
END:STANDARD
END:VTIMEZONE
BEGIN:VEVENT
DTSTART;TZID=America/Los_Angeles:20241109T090000
DTEND;TZID=America/Los_Angeles:20241109T114500
DTSTAMP:20260422T021712
CREATED:20240930T172935Z
LAST-MODIFIED:20241108T171926Z
UID:266-1731142800-1731152700@pluckingstrummers.club
SUMMARY:Meetup November 9\, 2024
DESCRIPTION:Join us for our first meetup in November. The meeting theme is “Duets.” \nSonglist:\nAnything You Can Do I Can Do Better \nSummer Nights \nSide By Side \nSinging In The Bathtub \nBlue Monk https://ukuleleinthedark.com/filesUD/blue-monk.mp3 \nIf I Were A Carpenter \nOur schedule:\n9 AM to 9:45 AM we will start the meeting delving into the wonderful world of tabs. If you are new to tabs\, they are way of reading music without reading music notation.  Magda and Arnie have graciously put together teaching/playing section to start the Meeting. There will be one 10-to-15-minute break following this section. Try to listen to this before the meetup. We will use this song to help us learn. https://ukuleleinthedark.com/filesUD/blue-monk.mp3 \n10:00 to 11:15 AM –Plucking Strummers Duets Song set list. \n11:30 AM – Individual performance time! I really hope we can get many people to sign up. I would love to see some of our new Strummers stretch their wings. Then we need to pack up and exit the building before Noon. \nDisclaimers: \nMasks are no longer mandatory\, however\, if you feel more comfortable wearing one\, please do. \nIt is very important to the church that we have completely exited the building and cleaned up behind us before the next group arrives. So\, depending on the number of performance signups\, we may or may not get to all of them. Any member who signs up but does not get to perform\, will be moved to the top of the list for the next meeting. \nAny member who wishes to be a guest presenter/teacher needs to contact me the week before the meeting\, let me know what you plan to present and provide me early copies of any material you will be handing out. \nAs there are only a few music stands readily available to us\, if you have a music stand\, please bring it with you. \nThe address of C.C.L.A. is 3852 Edenhurst Ave Los Angeles CA 90039 \nLet’s have some ukulele fun! Can’t wait to see everyone there!!!!!!! \nCLICK HERE to download the music.
URL:https://pluckingstrummers.club/event/meetup-november-9-2024/
LOCATION:CCLA in Atwater Village\, 3852 Edenhurst Ave.\, Los Angeles\, CA\, 90039\, United States
CATEGORIES:Plucking Strummers Meetings
ATTACH;FMTTYPE=image/jpeg:https://pluckingstrummers.club/wp-content/uploads/2024/08/duets_Banner-e1731024573791.jpg
END:VEVENT
END:VCALENDAR