BEGIN:VCALENDAR
VERSION:2.0
PRODID:-//Plucking Strummers Ukulele Club - ECPv6.15.20//NONSGML v1.0//EN
CALSCALE:GREGORIAN
METHOD:PUBLISH
X-ORIGINAL-URL:https://pluckingstrummers.club
X-WR-CALDESC:Events for Plucking Strummers Ukulele Club
REFRESH-INTERVAL;VALUE=DURATION:PT1H
X-Robots-Tag:noindex
X-PUBLISHED-TTL:PT1H
BEGIN:VTIMEZONE
TZID:America/Los_Angeles
BEGIN:DAYLIGHT
TZOFFSETFROM:-0800
TZOFFSETTO:-0700
TZNAME:PDT
DTSTART:20230312T100000
END:DAYLIGHT
BEGIN:STANDARD
TZOFFSETFROM:-0700
TZOFFSETTO:-0800
TZNAME:PST
DTSTART:20231105T090000
END:STANDARD
BEGIN:DAYLIGHT
TZOFFSETFROM:-0800
TZOFFSETTO:-0700
TZNAME:PDT
DTSTART:20240310T100000
END:DAYLIGHT
BEGIN:STANDARD
TZOFFSETFROM:-0700
TZOFFSETTO:-0800
TZNAME:PST
DTSTART:20241103T090000
END:STANDARD
BEGIN:DAYLIGHT
TZOFFSETFROM:-0800
TZOFFSETTO:-0700
TZNAME:PDT
DTSTART:20250309T100000
END:DAYLIGHT
BEGIN:STANDARD
TZOFFSETFROM:-0700
TZOFFSETTO:-0800
TZNAME:PST
DTSTART:20251102T090000
END:STANDARD
END:VTIMEZONE
BEGIN:VEVENT
DTSTART;TZID=America/Los_Angeles:20241123T090000
DTEND;TZID=America/Los_Angeles:20241123T114500
DTSTAMP:20260422T021547
CREATED:20241014T020902Z
LAST-MODIFIED:20241119T213740Z
UID:279-1732352400-1732362300@pluckingstrummers.club
SUMMARY:Meetup - November 23\, 2024
DESCRIPTION:Hi all you Plucking Strummers\, join Lauren and your fellow ukulele afficionados for a flashback Saturday morning filled with great songs from the 1980s!  \nGet out your boombox and worn cassettes\, put on your bangles and leg warmers\, it’s the 80s! I thought hard about which songs would translate well to the ukulele\, and which would be fun for us to sing. We’ll start with a little early 80s British new wave/synth pop (some of my favorite music) and then move toward the great axis of mid-80s pop giants. If you have a low G instrument and a pick\, this is your day to shine — there will be lots of power chords and fun bass riffs. As before\, there are a few solos and riffs tabbed out for those who want to try them. Also\, I heard your feedback from last time and added chord diagrams. See you on Saturday! \nHere’s the Songlist:\n\nEverybody wants to rule the world (Tears for Fears)\nDon’t you forget about me (Simple Minds)\n99 Red Balloons (Nena)\nCareless Whispers (George Michael)\nThe Power of Love (Huey Lewis & the News)\nWe Got the Beat (The Go-Go’s)\nAlone (Heart)\nHuman Nature (Michael Jackson)\nLike a Prayer (Madonna)\n\nDOWNLOAD THE CHARTS \nOur schedule: \n9:00 to 9:20 AM- Magda and Arnie will lead us in reviewing and replaying the tabs for Blue Monk Duet a few times\, while increasing the tempo. I’ll post the tab sheet again in the announcement. (Or download here.) \n9:20 AM to 11:15 AM – This is the time when we will strum and sing our hearts out to a list of songs chosen by that meeting’s song leader. There will be one 10-to-15-minute break somewhere during that time. \n11:15 AM to 11:40 – Individual performance time! I really hope we can get many people to sign up. I would love to see some of our new Strummers stretch their wings. Then we need to pack up and exit the building before Noon. \nDisclaimers: \nMasks are no longer mandatory\, however\, if you feel more comfortable wearing one\, please do. \nIt is very important to the church that we have completely exited the building and cleaned up behind us before the next group arrives. So\, depending on the number of performance signups\, we may or may not get to all of them. Any member who signs up but does not get to perform\, will be moved to the top of the list for the next meeting.
URL:https://pluckingstrummers.club/event/meetup-november-23-2024/
LOCATION:CCLA in Atwater Village\, 3852 Edenhurst Ave.\, Los Angeles\, CA\, 90039\, United States
CATEGORIES:Plucking Strummers Meetings
ATTACH;FMTTYPE=image/heic:https://pluckingstrummers.club/wp-content/uploads/2024/08/tempImage0vW37d.jpg
END:VEVENT
END:VCALENDAR