BEGIN:VCALENDAR
VERSION:2.0
PRODID:-//Plucking Strummers Ukulele Club - ECPv6.15.20//NONSGML v1.0//EN
CALSCALE:GREGORIAN
METHOD:PUBLISH
X-WR-CALNAME:Plucking Strummers Ukulele Club
X-ORIGINAL-URL:https://pluckingstrummers.club
X-WR-CALDESC:Events for Plucking Strummers Ukulele Club
REFRESH-INTERVAL;VALUE=DURATION:PT1H
X-Robots-Tag:noindex
X-PUBLISHED-TTL:PT1H
BEGIN:VTIMEZONE
TZID:America/Los_Angeles
BEGIN:DAYLIGHT
TZOFFSETFROM:-0800
TZOFFSETTO:-0700
TZNAME:PDT
DTSTART:20240310T100000
END:DAYLIGHT
BEGIN:STANDARD
TZOFFSETFROM:-0700
TZOFFSETTO:-0800
TZNAME:PST
DTSTART:20241103T090000
END:STANDARD
BEGIN:DAYLIGHT
TZOFFSETFROM:-0800
TZOFFSETTO:-0700
TZNAME:PDT
DTSTART:20250309T100000
END:DAYLIGHT
BEGIN:STANDARD
TZOFFSETFROM:-0700
TZOFFSETTO:-0800
TZNAME:PST
DTSTART:20251102T090000
END:STANDARD
BEGIN:DAYLIGHT
TZOFFSETFROM:-0800
TZOFFSETTO:-0700
TZNAME:PDT
DTSTART:20260308T100000
END:DAYLIGHT
BEGIN:STANDARD
TZOFFSETFROM:-0700
TZOFFSETTO:-0800
TZNAME:PST
DTSTART:20261101T090000
END:STANDARD
END:VTIMEZONE
BEGIN:VEVENT
DTSTART;TZID=America/Los_Angeles:20250726T090000
DTEND;TZID=America/Los_Angeles:20250726T114500
DTSTAMP:20260419T093634
CREATED:20250615T230458Z
LAST-MODIFIED:20250722T153053Z
UID:930-1753520400-1753530300@pluckingstrummers.club
SUMMARY:Meetup July 26\, 2025
DESCRIPTION:Our 2nd meetup of the month is on July 26th. Lars Gruber will be leading us in a Creedence Clearwater revival. \nDON’T LOOK NOW\, it’s a morning of John Fogerty! July 26th! Join us as we travel thru some of his hits we’ve never or rarely played. Songs not in the Beloff books. Some of my favorite songs with a distinct message. Who’ll stop the Fogerty? Not me! \nThe set list:\nFortunate Son\nWho’ll Stop The Rain\nDon’t Look Now (It Ain’t You or Me)\nBorn On The Bayou\nTravelin’ Band\nBad Moon Rising\nHey Tonight\nLodi\nProud Mary\nDown On The Corner \nClick here to download the song sheets.
URL:https://pluckingstrummers.club/event/meetup-july-26-2025/
LOCATION:CCLA in Atwater Village\, 3852 Edenhurst Ave.\, Los Angeles\, CA\, 90039\, United States
CATEGORIES:Lars Gruber,Plucking Strummers Meetings
ATTACH;FMTTYPE=image/jpeg:https://pluckingstrummers.club/wp-content/uploads/2025/07/event_feature_Creedence_072625.jpg
END:VEVENT
END:VCALENDAR