BEGIN:VCALENDAR
VERSION:2.0
PRODID:-//Plucking Strummers Ukulele Club - ECPv6.15.20//NONSGML v1.0//EN
CALSCALE:GREGORIAN
METHOD:PUBLISH
X-ORIGINAL-URL:https://pluckingstrummers.club
X-WR-CALDESC:Events for Plucking Strummers Ukulele Club
REFRESH-INTERVAL;VALUE=DURATION:PT1H
X-Robots-Tag:noindex
X-PUBLISHED-TTL:PT1H
BEGIN:VTIMEZONE
TZID:America/Los_Angeles
BEGIN:DAYLIGHT
TZOFFSETFROM:-0800
TZOFFSETTO:-0700
TZNAME:PDT
DTSTART:20240310T100000
END:DAYLIGHT
BEGIN:STANDARD
TZOFFSETFROM:-0700
TZOFFSETTO:-0800
TZNAME:PST
DTSTART:20241103T090000
END:STANDARD
BEGIN:DAYLIGHT
TZOFFSETFROM:-0800
TZOFFSETTO:-0700
TZNAME:PDT
DTSTART:20250309T100000
END:DAYLIGHT
BEGIN:STANDARD
TZOFFSETFROM:-0700
TZOFFSETTO:-0800
TZNAME:PST
DTSTART:20251102T090000
END:STANDARD
BEGIN:DAYLIGHT
TZOFFSETFROM:-0800
TZOFFSETTO:-0700
TZNAME:PDT
DTSTART:20260308T100000
END:DAYLIGHT
BEGIN:STANDARD
TZOFFSETFROM:-0700
TZOFFSETTO:-0800
TZNAME:PST
DTSTART:20261101T090000
END:STANDARD
END:VTIMEZONE
BEGIN:VEVENT
DTSTART;TZID=America/Los_Angeles:20250222T090000
DTEND;TZID=America/Los_Angeles:20250222T114500
DTSTAMP:20260419T182943
CREATED:20250111T225757Z
LAST-MODIFIED:20250215T233657Z
UID:601-1740214800-1740224700@pluckingstrummers.club
SUMMARY:Meetup - Mardi Gras Party - February 22\, 2025
DESCRIPTION:“MARDI GRAS PARTY!” with THE PLUCKING STRUMMERS! With Lars Gruber.\nGrab your beads\, wear your purple\, green & gold\, and come on down for a Plucking Strummers Mardi Gras Party! It’s time to Carnival! Celebrate the Social Season ukulele-style! We’re going off road with a custom PDF of sheet music. Click on the link below\, download the sheet music\, and Laissez Les Bons Temps Roulez! \nCLICK for MUSIC SONG LIST \nBefore I go any further\, I’d like to thank Gene for an awesome novelty song presentation. We had a great turnout. I’d also like to than Honey B for keeping on track and to Larry for documenting and posting highlights of the day. Now if I could just lose those ear worms. \nFor this upcoming meeting\, I selected some of my favorites of the Mardi Gras season. Some are traditional Mardi Gras songs. Some are more modern interpretations\, plus I included a small tribute to New Orleans’ own\, Fats Domino. You’ll even find my contribution to the Social Season. Check below for Youtube links. \nThe set list:\nIko Iko\nMardi Gras King Cake\nStagger Lee\nHey Pocky A-Way\nBut I Do\nMardi Gras Mambo\nDown Home Girl\nWalkin’ to New Orleans\nI’m in Love Again\nMy Girl Josephine\nWhen The Saints Go Marching In \nHere are some handy song links.\nIko Iko \nhttps://www.youtube.com/watch?v=K5GzVZjd0iI \nStagger Lee \nhttps://www.youtube.com/watch?v=FCPutYaGFlE \nHey Pocky A-Way \nhttps://www.youtube.com/watch?v=VGVVkQhruBI \nMardi Gras Mambo \nhttps://www.youtube.com/watch?v=v7hxqp2reVc \nBut I do \nhttps://www.youtube.com/watch?v=UbfJ3t3CwBc \nDown Home Girl \nhttps://www.youtube.com/watch?v=EfXrf2ReO9Y \nWalking to New Orleans \nhttps://www.youtube.com/watch?v=o-eWAuFmjN0 \nI’m in Love Again \nMy Girl Josephine \nhttps://www.youtube.com/watch?v=8tDplC7jRQk \nWhen the Saints go Marching In \nhttps://www.youtube.com/watch?v=USpYJB6rdRs \n——————————————– \nTake a look at the changes for 2025 here.
URL:https://pluckingstrummers.club/event/meetup-january-25-2025-2-2/
LOCATION:CCLA in Atwater Village\, 3852 Edenhurst Ave.\, Los Angeles\, CA\, 90039\, United States
CATEGORIES:Lars Gruber,Plucking Strummers Meetings
ATTACH;FMTTYPE=image/jpeg:https://pluckingstrummers.club/wp-content/uploads/2025/01/MardiGras_event_Banner.jpg
END:VEVENT
END:VCALENDAR